BEGIN:VCALENDAR
VERSION:2.0
PRODID:-//Library Market//iCal Export//EN
BEGIN:VEVENT
SUMMARY:Flint Neighborhoods United Meeting
UID:29426
DTSTAMP:20260424T040100Z
DTSTART:20260509T133000Z
DTEND:20260509T153000Z
LOCATION:Flint Public Library, 1026 E. Kearsley St., Flint, MI 48503, Unit
 ed States
ROOM: Flint Central AB
DESCRIPTION:
URL:https://www.fpl.info/event/flint-neighborhoods-united-meeting-29426
END:VEVENT
END:VCALENDAR
