BEGIN:VCALENDAR
VERSION:2.0
PRODID:-//Library Market//iCal Export//EN
BEGIN:VEVENT
SUMMARY:Chill With The New ED: Ice Cream Social
UID:28532
DTSTAMP:20260420T093400Z
DTSTART:20260519T203000Z
DTEND:20260519T223000Z
LOCATION:Flint Public Library, 1026 E. Kearsley St., Flint, MI 48503, Unit
 ed States
ROOM: C.S. Mott Foundation Community Room
DESCRIPTION:Join us for a casual, family-friendly “Chill with the New ED
 : Ice Cream Social” and meet our new Executive Director, Desmond J. Lond
 on Sr. This free event is open to all. Enjoy a sweet treat, connect with o
 thers, and help us celebrate this exciting new chapter for the Library.
URL:https://www.fpl.info/event/ed-welcome-reception-28532
END:VEVENT
END:VCALENDAR
